BEGIN:VCALENDAR
VERSION:2.0
PRODID:-//Plumbers Union Local 75 - ECPv6.15.11//NONSGML v1.0//EN
CALSCALE:GREGORIAN
METHOD:PUBLISH
X-ORIGINAL-URL:https://www.plumbers75.com
X-WR-CALDESC:Events for Plumbers Union Local 75
REFRESH-INTERVAL;VALUE=DURATION:PT1H
X-Robots-Tag:noindex
X-PUBLISHED-TTL:PT1H
BEGIN:VTIMEZONE
TZID:UTC
BEGIN:STANDARD
TZOFFSETFROM:+0000
TZOFFSETTO:+0000
TZNAME:UTC
DTSTART:20210101T000000
END:STANDARD
END:VTIMEZONE
BEGIN:VEVENT
DTSTART;TZID=UTC:20220201T000000
DTEND;TZID=UTC:20220201T235959
DTSTAMP:20260420T030754
CREATED:20220111T025438Z
LAST-MODIFIED:20220111T025439Z
UID:9978-1643673600-1643759999@www.plumbers75.com
SUMMARY:License Exams - Wausau
DESCRIPTION:Journeyman\, Master Plumber and Restricted Exams are administered. You must pre-register with the State of Wisconsin to take any of these exams. The exam has 2 parts. You will be scheduled for both sessions: A.M. (Starts at 8:00 a.m.) and P.M. (Starts at 1:00 p.m.)
URL:https://www.plumbers75.com/event/license-exams-wausau/
LOCATION:Fairfield By Marriott\, 7100 Stone Ridge Dr\, Weston\, Wisconsin\, 54476\, United States
END:VEVENT
BEGIN:VEVENT
DTSTART;TZID=UTC:20220202T000000
DTEND;TZID=UTC:20220202T235959
DTSTAMP:20260420T030754
CREATED:20220111T025544Z
LAST-MODIFIED:20220111T025546Z
UID:9982-1643760000-1643846399@www.plumbers75.com
SUMMARY:License Exams - Wausau
DESCRIPTION:Journeyman\, Master Plumber and Restricted Exams are administered. You must pre-register with the State of Wisconsin to take any of these exams. The exam has 2 parts. You will be scheduled for both sessions: A.M. (Starts at 8:00 a.m.) and P.M. (Starts at 1:00 p.m.)
URL:https://www.plumbers75.com/event/license-exams-wausau-2/
LOCATION:Fairfield By Marriott\, 7100 Stone Ridge Dr\, Weston\, Wisconsin\, 54476\, United States
END:VEVENT
BEGIN:VEVENT
DTSTART;TZID=UTC:20220214T120000
DTEND;TZID=UTC:20220214T150000
DTSTAMP:20260420T030754
CREATED:20220118T002507Z
LAST-MODIFIED:20220118T002509Z
UID:10025-1644840000-1644850800@www.plumbers75.com
SUMMARY:Retiree Lunch - Milwaukee
DESCRIPTION:Plumbers Local 75 Retiree Lunch in Milwaukee
URL:https://www.plumbers75.com/event/retiree-lunch-milwaukee-11/
LOCATION:WI
END:VEVENT
BEGIN:VEVENT
DTSTART;TZID=UTC:20220215T000000
DTEND;TZID=UTC:20220215T235959
DTSTAMP:20260420T030755
CREATED:20220110T232344Z
LAST-MODIFIED:20220110T232346Z
UID:9904-1644883200-1644969599@www.plumbers75.com
SUMMARY:License Exams - DeForest
DESCRIPTION:Journeyman\, Master Plumber and Restricted Exams are administered. You must pre-register with the State of Wisconsin to take any of these exams. The exam has 2 parts. You will be scheduled for both sessions: A.M. (Starts at 8:00 a.m.) and P.M. (Starts at 1:00 p.m.)
URL:https://www.plumbers75.com/event/license-exams-deforest/
LOCATION:Comfort Inn and Suites\, 5025 County Road V\, DeForest\, Wisconsin\, 53532\, United States
END:VEVENT
BEGIN:VEVENT
DTSTART;TZID=UTC:20220215T170000
DTEND;TZID=UTC:20220215T200000
DTSTAMP:20260420T030755
CREATED:20220125T023633Z
LAST-MODIFIED:20220214T200730Z
UID:10065-1644944400-1644955200@www.plumbers75.com
SUMMARY:CANCELLED - Continuing Ed & Service Awards
DESCRIPTION:5:00 – 7:00 pm – 2 Hours Continuing Education (Topic TBD) \n\n\n\n7:00 pm – Union Meeting & Madison Service Awards \n\n\n\nA light buffet will be served.
URL:https://www.plumbers75.com/event/continuing-ed-service-awards/
LOCATION:Plumbers Local 75 Madison Training Center\, 2102 E Springs Drive\, Madison\, Wisconsin\, 53704\, United States
END:VEVENT
BEGIN:VEVENT
DTSTART;TZID=UTC:20220216T000000
DTEND;TZID=UTC:20220216T235959
DTSTAMP:20260420T030755
CREATED:20220110T232504Z
LAST-MODIFIED:20220110T232506Z
UID:9908-1644969600-1645055999@www.plumbers75.com
SUMMARY:License Exams - DeForest
DESCRIPTION:Journeyman\, Master Plumber and Restricted Exams are administered. You must pre-register with the State of Wisconsin to take any of these exams. The exam has 2 parts. You will be scheduled for both sessions: A.M. (Starts at 8:00 a.m.) and P.M. (Starts at 1:00 p.m.)
URL:https://www.plumbers75.com/event/license-exams-deforest-2/
LOCATION:Comfort Inn and Suites\, 5025 County Road V\, DeForest\, Wisconsin\, 53532\, United States
END:VEVENT
BEGIN:VEVENT
DTSTART;TZID=UTC:20220217T120000
DTEND;TZID=UTC:20220217T150000
DTSTAMP:20260420T030755
CREATED:20220118T004522Z
LAST-MODIFIED:20220118T004524Z
UID:10043-1645099200-1645110000@www.plumbers75.com
SUMMARY:Retiree Lunch - Madison
DESCRIPTION:Plumbers Local 75 Retiree Lunch in Madison
URL:https://www.plumbers75.com/event/retiree-lunch-madison-13/
LOCATION:Bowl-a-Vard\, 2121 E Springs Drive\, Madison\, Wisconsin\, 53704\, United States
END:VEVENT
BEGIN:VEVENT
DTSTART;TZID=UTC:20220222T180000
DTEND;TZID=UTC:20220222T210000
DTSTAMP:20260420T030755
CREATED:20220108T023004Z
LAST-MODIFIED:20220108T023006Z
UID:9890-1645552800-1645563600@www.plumbers75.com
SUMMARY:Union Meeting
DESCRIPTION:Plumbers Local 75 Membership Meeting
URL:https://www.plumbers75.com/event/union-meeting-16/
LOCATION:WI
END:VEVENT
END:VCALENDAR