BEGIN:VCALENDAR
VERSION:2.0
PRODID:-//Plumbers Union Local 75 - ECPv6.15.11//NONSGML v1.0//EN
CALSCALE:GREGORIAN
METHOD:PUBLISH
X-ORIGINAL-URL:https://www.plumbers75.com
X-WR-CALDESC:Events for Plumbers Union Local 75
REFRESH-INTERVAL;VALUE=DURATION:PT1H
X-Robots-Tag:noindex
X-PUBLISHED-TTL:PT1H
BEGIN:VTIMEZONE
TZID:UTC
BEGIN:STANDARD
TZOFFSETFROM:+0000
TZOFFSETTO:+0000
TZNAME:UTC
DTSTART:20180101T000000
END:STANDARD
END:VTIMEZONE
BEGIN:VEVENT
DTSTART;TZID=UTC:20191203T113000
DTEND;TZID=UTC:20191203T150000
DTSTAMP:20260419T095608
CREATED:20191011T214628Z
LAST-MODIFIED:20191011T214628Z
UID:1123-1575372600-1575385200@www.plumbers75.com
SUMMARY:Retiree Christmas Lunch
DESCRIPTION:Annual Retiree Christmas Luncheon. Begins at 11:15 AM with a social hour and lunch is served at 12:00 Noon. Pictures will be taken. Details will be sent in the mail closer to the event. Pre-registration is required and a co-pay will apply.
URL:https://www.plumbers75.com/event/retiree-christmas-lunch/
LOCATION:Davians Banquet Center\, 16300 W. Silver Spring Drive\, Milwaukee\, Wisconsin\, 53051\, United States
CATEGORIES:Social Events
ATTACH;FMTTYPE=image/png:https://www.plumbers75.com/wp-content/uploads/2019/10/Holly.png
END:VEVENT
BEGIN:VEVENT
DTSTART;TZID=UTC:20191203T180000
DTEND;TZID=UTC:20191203T210000
DTSTAMP:20260419T095608
CREATED:20191011T214015Z
LAST-MODIFIED:20191011T214100Z
UID:1121-1575396000-1575406800@www.plumbers75.com
SUMMARY:Union Meeting
DESCRIPTION:
URL:https://www.plumbers75.com/event/union-meeting/
LOCATION:WI
CATEGORIES:Meetings
ATTACH;FMTTYPE=image/png:https://www.plumbers75.com/wp-content/uploads/2019/04/favicon-e1571257854462.png
END:VEVENT
BEGIN:VEVENT
DTSTART;TZID=UTC:20191204T080000
DTEND;TZID=UTC:20191204T170000
DTSTAMP:20260419T095608
CREATED:20191011T213836Z
LAST-MODIFIED:20191011T213837Z
UID:1117-1575446400-1575478800@www.plumbers75.com
SUMMARY:License Exams
DESCRIPTION:Journeyman\, Master Plumber and Restricted Exams are administered. You must pre-register with the State of Wisconsin to take any of these exams.
URL:https://www.plumbers75.com/event/license-exams-4/
LOCATION:SleepInn Conference Center\, 5872 33rd Avenue\, Eau Claire\, Wisconsin\, 54703\, United States
CATEGORIES:Exams
ATTACH;FMTTYPE=image/png:https://www.plumbers75.com/wp-content/uploads/2019/10/Exam-e1572459082512.png
END:VEVENT
BEGIN:VEVENT
DTSTART;TZID=UTC:20191207T100000
DTEND;TZID=UTC:20191207T140000
DTSTAMP:20260419T095608
CREATED:20191009T222121Z
LAST-MODIFIED:20191011T213617Z
UID:986-1575712800-1575727200@www.plumbers75.com
SUMMARY:Children's Christmas Party
DESCRIPTION:The party begins at 10:00 AM with entertainment and Santa will arrive around 10:30 AM. Each child attending will have a chance to visit with Santa and receive a Christmas Stocking. Pictures will be taken. More information will be in the bulletin closer to the day of the event. You must pre-register for this event.
URL:https://www.plumbers75.com/event/childrens-christmas-party/
LOCATION:WI
CATEGORIES:Social Events
ATTACH;FMTTYPE=image/png:https://www.plumbers75.com/wp-content/uploads/2019/10/Santa.png
END:VEVENT
BEGIN:VEVENT
DTSTART;TZID=UTC:20191218T080000
DTEND;TZID=UTC:20191218T170000
DTSTAMP:20260419T095608
CREATED:20191011T215118Z
LAST-MODIFIED:20191011T215118Z
UID:1129-1576656000-1576688400@www.plumbers75.com
SUMMARY:License Exams
DESCRIPTION:Journeyman\, Master Plumber and Restricted Exams are administered. You must pre-register with the State of Wisconsin to take any of these exams.
URL:https://www.plumbers75.com/event/license-exams-5/
LOCATION:Madison Crown Plaza\, 4402 E. Washington Avenue\, Madison\, Wisconsin\, 53704\, United States
CATEGORIES:Exams
ATTACH;FMTTYPE=image/png:https://www.plumbers75.com/wp-content/uploads/2019/10/Exam-e1572459082512.png
END:VEVENT
BEGIN:VEVENT
DTSTART;TZID=UTC:20191219T120000
DTEND;TZID=UTC:20191219T140000
DTSTAMP:20260419T095608
CREATED:20191011T215237Z
LAST-MODIFIED:20191011T215237Z
UID:1133-1576756800-1576764000@www.plumbers75.com
SUMMARY:Retiree Lunch in Madison
DESCRIPTION:
URL:https://www.plumbers75.com/event/retiree-lunch-in-madison-4/
LOCATION:WI
CATEGORIES:Social Events
ATTACH;FMTTYPE=image/png:https://www.plumbers75.com/wp-content/uploads/2019/10/White-Utensils.png
END:VEVENT
BEGIN:VEVENT
DTSTART;TZID=UTC:20191224T000000
DTEND;TZID=UTC:20191224T235959
DTSTAMP:20260419T095608
CREATED:20191011T221736Z
LAST-MODIFIED:20191011T221737Z
UID:1147-1577145600-1577231999@www.plumbers75.com
SUMMARY:Christmas Eve
DESCRIPTION:Plumbers Local 75 Union Offices are closed.
URL:https://www.plumbers75.com/event/christmas-eve-2/
LOCATION:WI
CATEGORIES:Holidays
ATTACH;FMTTYPE=image/png:https://www.plumbers75.com/wp-content/uploads/2019/10/Christmas-Tree.png
END:VEVENT
BEGIN:VEVENT
DTSTART;TZID=UTC:20191225T000000
DTEND;TZID=UTC:20191225T235959
DTSTAMP:20260419T095608
CREATED:20191011T221848Z
LAST-MODIFIED:20191011T221848Z
UID:1150-1577232000-1577318399@www.plumbers75.com
SUMMARY:Christmas Day
DESCRIPTION:Plumbers Local 75 Union Offices are closed in observance of Christmas.
URL:https://www.plumbers75.com/event/christmas-day-2/
LOCATION:WI
CATEGORIES:Holidays
ATTACH;FMTTYPE=image/png:https://www.plumbers75.com/wp-content/uploads/2019/10/Christmas-Tree.png
END:VEVENT
BEGIN:VEVENT
DTSTART;TZID=UTC:20191231T070000
DTEND;TZID=UTC:20191231T120000
DTSTAMP:20260419T095608
CREATED:20191011T222210Z
LAST-MODIFIED:20191011T222210Z
UID:1153-1577775600-1577793600@www.plumbers75.com
SUMMARY:New Year's Eve
DESCRIPTION:Plumbers Local 75 Union Offices close at Noon today.
URL:https://www.plumbers75.com/event/new-years-eve/
LOCATION:WI
CATEGORIES:Holidays
ATTACH;FMTTYPE=image/jpeg:https://www.plumbers75.com/wp-content/uploads/2019/10/Happy-New-YEar.jpg
END:VEVENT
END:VCALENDAR