BEGIN:VCALENDAR
VERSION:2.0
PRODID:-//Plumbers Union Local 75 - ECPv6.15.11//NONSGML v1.0//EN
CALSCALE:GREGORIAN
METHOD:PUBLISH
X-WR-CALNAME:Plumbers Union Local 75
X-ORIGINAL-URL:https://www.plumbers75.com
X-WR-CALDESC:Events for Plumbers Union Local 75
REFRESH-INTERVAL;VALUE=DURATION:PT1H
X-Robots-Tag:noindex
X-PUBLISHED-TTL:PT1H
BEGIN:VTIMEZONE
TZID:UTC
BEGIN:STANDARD
TZOFFSETFROM:+0000
TZOFFSETTO:+0000
TZNAME:UTC
DTSTART:20180101T000000
END:STANDARD
END:VTIMEZONE
BEGIN:VEVENT
DTSTART;TZID=UTC:20191014T120000
DTEND;TZID=UTC:20191014T140000
DTSTAMP:20260419T131143
CREATED:20191009T223541Z
LAST-MODIFIED:20191011T192237Z
UID:989-1571054400-1571061600@www.plumbers75.com
SUMMARY:Retiree Lunch in Milwaukee
DESCRIPTION:
URL:https://www.plumbers75.com/event/retiree-lunch-in-milwaukee-2/
LOCATION:WI
CATEGORIES:Social Events
ATTACH;FMTTYPE=image/png:https://www.plumbers75.com/wp-content/uploads/2019/10/Black-Utensils.png
END:VEVENT
BEGIN:VEVENT
DTSTART;TZID=UTC:20191017T120000
DTEND;TZID=UTC:20191017T140000
DTSTAMP:20260419T131143
CREATED:20191011T192443Z
LAST-MODIFIED:20191011T202640Z
UID:1049-1571313600-1571320800@www.plumbers75.com
SUMMARY:Retiree Lunch in Madison
DESCRIPTION:
URL:https://www.plumbers75.com/event/retiree-lunch-in-madison-2/
LOCATION:WI
ATTACH;FMTTYPE=image/png:https://www.plumbers75.com/wp-content/uploads/2019/10/White-Utensils.png
END:VEVENT
BEGIN:VEVENT
DTSTART;TZID=UTC:20191022T180000
DTEND;TZID=UTC:20191022T210000
DTSTAMP:20260419T131143
CREATED:20191009T220845Z
LAST-MODIFIED:20191011T205056Z
UID:979-1571767200-1571778000@www.plumbers75.com
SUMMARY:Union Meeting & Retiree Ring Ceremony
DESCRIPTION:
URL:https://www.plumbers75.com/event/union-meeting-retiree-ring-ceremony/
LOCATION:WI
CATEGORIES:Meetings
ATTACH;FMTTYPE=image/png:https://www.plumbers75.com/wp-content/uploads/2019/04/favicon-e1571257854462.png
END:VEVENT
BEGIN:VEVENT
DTSTART;TZID=UTC:20191023T080000
DTEND;TZID=UTC:20191023T170000
DTSTAMP:20260419T131143
CREATED:20191011T204544Z
LAST-MODIFIED:20191011T204900Z
UID:1083-1571817600-1571850000@www.plumbers75.com
SUMMARY:License Exams
DESCRIPTION:Journeyman\, Master Plumber and Restricted Exams are administered. You must pre-register with the State of Wisconsin to take any of these exams.
URL:https://www.plumbers75.com/event/license-exams/
LOCATION:WCTC Education Center – Pewaukee\, 800 Main Street\, Pewaukee\, Wisconsin\, 53072\, United States
CATEGORIES:Education
ATTACH;FMTTYPE=image/png:https://www.plumbers75.com/wp-content/uploads/2019/10/Exam-e1572459082512.png
END:VEVENT
END:VCALENDAR