BEGIN:VCALENDAR
VERSION:2.0
PRODID:-//Plumbers Union Local 75 - ECPv6.15.11//NONSGML v1.0//EN
CALSCALE:GREGORIAN
METHOD:PUBLISH
X-WR-CALNAME:Plumbers Union Local 75
X-ORIGINAL-URL:https://www.plumbers75.com
X-WR-CALDESC:Events for Plumbers Union Local 75
REFRESH-INTERVAL;VALUE=DURATION:PT1H
X-Robots-Tag:noindex
X-PUBLISHED-TTL:PT1H
BEGIN:VTIMEZONE
TZID:UTC
BEGIN:STANDARD
TZOFFSETFROM:+0000
TZOFFSETTO:+0000
TZNAME:UTC
DTSTART:20190101T000000
END:STANDARD
END:VTIMEZONE
BEGIN:VEVENT
DTSTART;TZID=UTC:20200703T000000
DTEND;TZID=UTC:20200703T235959
DTSTAMP:20260425T064623
CREATED:20200121T025319Z
LAST-MODIFIED:20200702T192708Z
UID:3759-1593734400-1593820799@www.plumbers75.com
SUMMARY:Apprenticeship Application Day
DESCRIPTION:You must pre-register between May 1 and July 3rd through our Careers Portal in order to receive detailed information on the online session. A link to the Careers Portal can be found here.
URL:https://www.plumbers75.com/event/apprenticeship-application-day-5/
CATEGORIES:Education
ATTACH;FMTTYPE=image/png:https://www.plumbers75.com/wp-content/uploads/2019/10/Calendar.png
END:VEVENT
BEGIN:VEVENT
DTSTART;TZID=UTC:20200720T000000
DTEND;TZID=UTC:20200720T235959
DTSTAMP:20260425T064623
CREATED:20200121T031736Z
LAST-MODIFIED:20200121T031737Z
UID:3771-1595203200-1595289599@www.plumbers75.com
SUMMARY:Continuing Ed Online Registration
DESCRIPTION:Online registration for continuing education classes opens. Sign in under the Members Only Section of the Plumbers Local 75 website.
URL:https://www.plumbers75.com/event/continuing-ed-online-registration/
CATEGORIES:Education
ATTACH;FMTTYPE=image/png:https://www.plumbers75.com/wp-content/uploads/2019/05/Calendar.png
END:VEVENT
END:VCALENDAR