BEGIN:VCALENDAR
VERSION:2.0
PRODID:-//Plumbers Union Local 75 - ECPv6.15.11//NONSGML v1.0//EN
CALSCALE:GREGORIAN
METHOD:PUBLISH
X-ORIGINAL-URL:https://www.plumbers75.com
X-WR-CALDESC:Events for Plumbers Union Local 75
REFRESH-INTERVAL;VALUE=DURATION:PT1H
X-Robots-Tag:noindex
X-PUBLISHED-TTL:PT1H
BEGIN:VTIMEZONE
TZID:UTC
BEGIN:STANDARD
TZOFFSETFROM:+0000
TZOFFSETTO:+0000
TZNAME:UTC
DTSTART:20200101T000000
END:STANDARD
END:VTIMEZONE
BEGIN:VEVENT
DTSTART;TZID=UTC:20211207T111500
DTEND;TZID=UTC:20211207T140000
DTSTAMP:20260419T143617
CREATED:20210716T191358Z
LAST-MODIFIED:20210716T191400Z
UID:9587-1638875700-1638885600@www.plumbers75.com
SUMMARY:Retiree Christmas Lunch
DESCRIPTION:Annual Retiree Christmas Luncheon. Begins at 11:15 AM with a social hour and lunch is served at 12:00 Noon. Pictures will be taken. Details will be sent in the mail closer to the event. Pre-registration is required and a co=pay will apply.
URL:https://www.plumbers75.com/event/retiree-christmas-lunch-3/
LOCATION:Davians Banquet Center\, 16300 W. Silver Spring Drive\, Milwaukee\, Wisconsin\, 53051\, United States
ATTACH;FMTTYPE=image/png:https://www.plumbers75.com/wp-content/uploads/2019/10/Christmas-Tree.png
END:VEVENT
BEGIN:VEVENT
DTSTART;TZID=UTC:20211207T180000
DTEND;TZID=UTC:20211207T210000
DTSTAMP:20260419T143617
CREATED:20210325T223326Z
LAST-MODIFIED:20210716T174450Z
UID:9390-1638900000-1638910800@www.plumbers75.com
SUMMARY:Union Meeting
DESCRIPTION:Plumbers Local 75 Membership Meeting
URL:https://www.plumbers75.com/event/union-meeting-14/
LOCATION:WI
END:VEVENT
END:VCALENDAR