BEGIN:VCALENDAR
VERSION:2.0
PRODID:-//Plumbers Union Local 75 - ECPv6.15.11//NONSGML v1.0//EN
CALSCALE:GREGORIAN
METHOD:PUBLISH
X-ORIGINAL-URL:https://www.plumbers75.com
X-WR-CALDESC:Events for Plumbers Union Local 75
REFRESH-INTERVAL;VALUE=DURATION:PT1H
X-Robots-Tag:noindex
X-PUBLISHED-TTL:PT1H
BEGIN:VTIMEZONE
TZID:UTC
BEGIN:STANDARD
TZOFFSETFROM:+0000
TZOFFSETTO:+0000
TZNAME:UTC
DTSTART:20200101T000000
END:STANDARD
END:VTIMEZONE
BEGIN:VEVENT
DTSTART;TZID=UTC:20211125T000000
DTEND;TZID=UTC:20211125T235959
DTSTAMP:20260420T093046
CREATED:20210204T013454Z
LAST-MODIFIED:20210204T013455Z
UID:9134-1637798400-1637884799@www.plumbers75.com
SUMMARY:Thanksgiving Day
DESCRIPTION:Plumbers Local 75 Union Offices are closed in observance of Thanksgiving.
URL:https://www.plumbers75.com/event/thanksgiving-day-3/
LOCATION:WI
ATTACH;FMTTYPE=image/jpeg:https://www.plumbers75.com/wp-content/uploads/2019/10/cornucopia.jpg
END:VEVENT
END:VCALENDAR