BEGIN:VCALENDAR
VERSION:2.0
PRODID:-//Plumbers Union Local 75 - ECPv6.15.11//NONSGML v1.0//EN
CALSCALE:GREGORIAN
METHOD:PUBLISH
X-ORIGINAL-URL:https://www.plumbers75.com
X-WR-CALDESC:Events for Plumbers Union Local 75
REFRESH-INTERVAL;VALUE=DURATION:PT1H
X-Robots-Tag:noindex
X-PUBLISHED-TTL:PT1H
BEGIN:VTIMEZONE
TZID:UTC
BEGIN:STANDARD
TZOFFSETFROM:+0000
TZOFFSETTO:+0000
TZNAME:UTC
DTSTART:20190101T000000
END:STANDARD
END:VTIMEZONE
BEGIN:VEVENT
DTSTART;TZID=UTC:20200808T000000
DTEND;TZID=UTC:20200814T235900
DTSTAMP:20260423T092051
CREATED:20200121T032304Z
LAST-MODIFIED:20200812T202148Z
UID:3775-1596844800-1597449540@www.plumbers75.com
SUMMARY:Cancelled - UA Instructor Training
DESCRIPTION:The Annual United Association Instructor Training Program. Your Education Department and Instructors will be in attendance at this annual program put on by the International Training Fund of the United Association.
URL:https://www.plumbers75.com/event/ua-instructor-training/
LOCATION:Washtenaw College\, Ann Arbor\, Michigan\, United States
CATEGORIES:Education
ATTACH;FMTTYPE=image/png:https://www.plumbers75.com/wp-content/uploads/2019/05/Training.png
END:VEVENT
END:VCALENDAR