BEGIN:VCALENDAR
VERSION:2.0
PRODID:-//Plumbers Union Local 75 - ECPv6.15.11//NONSGML v1.0//EN
CALSCALE:GREGORIAN
METHOD:PUBLISH
X-WR-CALNAME:Plumbers Union Local 75
X-ORIGINAL-URL:https://www.plumbers75.com
X-WR-CALDESC:Events for Plumbers Union Local 75
REFRESH-INTERVAL;VALUE=DURATION:PT1H
X-Robots-Tag:noindex
X-PUBLISHED-TTL:PT1H
BEGIN:VTIMEZONE
TZID:UTC
BEGIN:STANDARD
TZOFFSETFROM:+0000
TZOFFSETTO:+0000
TZNAME:UTC
DTSTART:20190101T000000
END:STANDARD
END:VTIMEZONE
BEGIN:VEVENT
DTSTART;TZID=UTC:20200108T000000
DTEND;TZID=UTC:20200108T235959
DTSTAMP:20260419T095459
CREATED:20200120T235907Z
LAST-MODIFIED:20200121T000615Z
UID:3663-1578441600-1578527999@www.plumbers75.com
SUMMARY:License Exams - Pewaukee
DESCRIPTION:Journeyman\, Master Plumber and Restricted Exams are administered. You must pre-register with the State of Wisconsin to take any of these exams.
URL:https://www.plumbers75.com/event/license-exams-pewaukee/
LOCATION:Holiday Inn\, N14 W24140 Tower Place\, Pewaukee\, Wisconsin\, 53072\, United States
CATEGORIES:Exams
ATTACH;FMTTYPE=image/png:https://www.plumbers75.com/wp-content/uploads/2019/10/Exam-e1572459082512.png
END:VEVENT
END:VCALENDAR