BEGIN:VCALENDAR
VERSION:2.0
PRODID:-//Plumbers Union Local 75 - ECPv6.15.11//NONSGML v1.0//EN
CALSCALE:GREGORIAN
METHOD:PUBLISH
X-ORIGINAL-URL:https://www.plumbers75.com
X-WR-CALDESC:Events for Plumbers Union Local 75
REFRESH-INTERVAL;VALUE=DURATION:PT1H
X-Robots-Tag:noindex
X-PUBLISHED-TTL:PT1H
BEGIN:VTIMEZONE
TZID:UTC
BEGIN:STANDARD
TZOFFSETFROM:+0000
TZOFFSETTO:+0000
TZNAME:UTC
DTSTART:20190101T000000
END:STANDARD
END:VTIMEZONE
BEGIN:VEVENT
DTSTART;TZID=UTC:20200103T090000
DTEND;TZID=UTC:20200103T110000
DTSTAMP:20260419T095536
CREATED:20200120T235625Z
LAST-MODIFIED:20200120T235626Z
UID:3661-1578042000-1578049200@www.plumbers75.com
SUMMARY:Apprenticeship Application Day
DESCRIPTION:Information session for those interested in applying for a plumbing apprenticeship. Session begins promptly at 9:00 am and no late comers will be seated. Please be sure to bring a pen and a photo ID.
URL:https://www.plumbers75.com/event/apprenticeship-application-day-2/
LOCATION:WI
CATEGORIES:Education
ATTACH;FMTTYPE=image/png:https://www.plumbers75.com/wp-content/uploads/2019/10/Calendar.png
END:VEVENT
END:VCALENDAR