BEGIN:VCALENDAR
VERSION:2.0
PRODID:-//Plumbers Union Local 75 - ECPv6.15.11//NONSGML v1.0//EN
CALSCALE:GREGORIAN
METHOD:PUBLISH
X-ORIGINAL-URL:https://www.plumbers75.com
X-WR-CALDESC:Events for Plumbers Union Local 75
REFRESH-INTERVAL;VALUE=DURATION:PT1H
X-Robots-Tag:noindex
X-PUBLISHED-TTL:PT1H
BEGIN:VTIMEZONE
TZID:UTC
BEGIN:STANDARD
TZOFFSETFROM:+0000
TZOFFSETTO:+0000
TZNAME:UTC
DTSTART:20190101T000000
END:STANDARD
END:VTIMEZONE
BEGIN:VEVENT
DTSTART;TZID=UTC:20200102T000000
DTEND;TZID=UTC:20200102T235959
DTSTAMP:20260419T082702
CREATED:20200120T235017Z
LAST-MODIFIED:20200120T235220Z
UID:3658-1577923200-1578009599@www.plumbers75.com
SUMMARY:Continuing Ed Hours
DESCRIPTION:Do you have your Continuing Ed hours in?
URL:https://www.plumbers75.com/event/continuing-ed-hours-2/
LOCATION:WI
CATEGORIES:Education
ATTACH;FMTTYPE=image/png:https://www.plumbers75.com/wp-content/uploads/2019/05/Calendar.png
END:VEVENT
END:VCALENDAR