BEGIN:VCALENDAR
VERSION:2.0
PRODID:-//Plumbers Union Local 75 - ECPv6.15.11//NONSGML v1.0//EN
CALSCALE:GREGORIAN
METHOD:PUBLISH
X-ORIGINAL-URL:https://www.plumbers75.com
X-WR-CALDESC:Events for Plumbers Union Local 75
REFRESH-INTERVAL;VALUE=DURATION:PT1H
X-Robots-Tag:noindex
X-PUBLISHED-TTL:PT1H
BEGIN:VTIMEZONE
TZID:UTC
BEGIN:STANDARD
TZOFFSETFROM:+0000
TZOFFSETTO:+0000
TZNAME:UTC
DTSTART:20190101T000000
END:STANDARD
END:VTIMEZONE
BEGIN:VEVENT
DTSTART;TZID=UTC:20200101T000000
DTEND;TZID=UTC:20200101T235959
DTSTAMP:20260419T082746
CREATED:20191011T222441Z
LAST-MODIFIED:20191011T222442Z
UID:1158-1577836800-1577923199@www.plumbers75.com
SUMMARY:New Year's Day
DESCRIPTION:Plumbers Local 75 Union Offices are closed in observance of New Year’s Day.
URL:https://www.plumbers75.com/event/new-years-day/
LOCATION:WI
CATEGORIES:Holidays
ATTACH;FMTTYPE=image/jpeg:https://www.plumbers75.com/wp-content/uploads/2019/10/Happy-New-YEar.jpg
END:VEVENT
END:VCALENDAR