BEGIN:VCALENDAR
VERSION:2.0
PRODID:-//Plumbers Union Local 75 - ECPv6.15.11//NONSGML v1.0//EN
CALSCALE:GREGORIAN
METHOD:PUBLISH
X-WR-CALNAME:Plumbers Union Local 75
X-ORIGINAL-URL:https://www.plumbers75.com
X-WR-CALDESC:Events for Plumbers Union Local 75
REFRESH-INTERVAL;VALUE=DURATION:PT1H
X-Robots-Tag:noindex
X-PUBLISHED-TTL:PT1H
BEGIN:VTIMEZONE
TZID:UTC
BEGIN:STANDARD
TZOFFSETFROM:+0000
TZOFFSETTO:+0000
TZNAME:UTC
DTSTART:20180101T000000
END:STANDARD
END:VTIMEZONE
BEGIN:VEVENT
DTSTART;TZID=UTC:20191104T080000
DTEND;TZID=UTC:20191104T170000
DTSTAMP:20260419T143442
CREATED:20191011T210802Z
LAST-MODIFIED:20191011T210803Z
UID:1094-1572854400-1572886800@www.plumbers75.com
SUMMARY:Continuing Ed Hours
DESCRIPTION:Do you have your Continuing Ed hours in?
URL:https://www.plumbers75.com/event/continuing-ed-hours/
LOCATION:WI
CATEGORIES:Reminders
ATTACH;FMTTYPE=image/png:https://www.plumbers75.com/wp-content/uploads/2019/10/Clock.png
END:VEVENT
END:VCALENDAR